BEGIN:VCALENDAR
VERSION:2.0
PRODID:-//Nura//NONSGML Nura//EN
METHOD:PUBLISH
BEGIN:VEVENT
UID:20260417T010336Z-1098363616-www.nura030.de
URL:https://www.nura030.de/dates/nura-dates-31032022-de-berlin-huxley-1--10-.html
DTSTAMP:20260417T010336Z
DTSTART:20220331T180000Z
DTEND:20220331T180000Z
SUMMARY:NURA | Dates | 31.03.2022 (DE) Berlin\, Huxley's Neue Welt
DESCRIPTION:For tickets and more Nura-dates check https://www.nura030.de/dates/
LOCATION:Huxley's Neue Welt\, Berlin\, Germany
END:VEVENT
END:VCALENDAR
